BEGIN:VCALENDAR
VERSION:2.0
PRODID:-//Niles Preparatory Academy - ECPv5.16.4//NONSGML v1.0//EN
CALSCALE:GREGORIAN
METHOD:PUBLISH
X-WR-CALNAME:Niles Preparatory Academy
X-ORIGINAL-URL:https://nilesprepacademy.org
X-WR-CALDESC:Events for Niles Preparatory Academy
BEGIN:VTIMEZONE
TZID:America/New_York
BEGIN:DAYLIGHT
TZOFFSETFROM:-0500
TZOFFSETTO:-0400
TZNAME:EDT
DTSTART:20260308T070000
END:DAYLIGHT
BEGIN:STANDARD
TZOFFSETFROM:-0400
TZOFFSETTO:-0500
TZNAME:EST
DTSTART:20261101T060000
END:STANDARD
END:VTIMEZONE
BEGIN:VEVENT
DTSTART;VALUE=DATE:20260521
DTEND;VALUE=DATE:20260522
DTSTAMP:20260421T175325
CREATED:20250703T195021Z
LAST-MODIFIED:20250703T195021Z
UID:10446-1779321600-1779407999@nilesprepacademy.org
SUMMARY:Professional Development Day
DESCRIPTION:No school for students
URL:https://nilesprepacademy.org/event/professional-development-day-7/
LOCATION:Niles Prep\, 45 S. Chestnut Street\, Niles\, OH\, 44446\, United States
CATEGORIES:Calendar Only
GEO:41.1795992;-80.7677283
X-APPLE-STRUCTURED-LOCATION;VALUE=URI;X-ADDRESS=Niles Prep 45 S. Chestnut Street Niles OH 44446 United States;X-APPLE-RADIUS=500;X-TITLE=45 S. Chestnut Street:geo:-80.7677283,41.1795992
END:VEVENT
END:VCALENDAR